BEGIN:VCALENDAR
VERSION:2.0
PRODID:-//wp-events-plugin.com//7.0.4//EN
TZID:America/New_York
X-WR-TIMEZONE:America/New_York
BEGIN:VEVENT
UID:17@vincentgenna.com
DTSTART;TZID=America/New_York:20170312T100000
DTEND;TZID=America/New_York:20170312T173000
DTSTAMP:20170204T201406Z
URL:https://vincentgenna.com/events/30-minute-private-psychic-medium-readi
 ngs-2/
SUMMARY:30-Minute Private Psychic Medium Readings
DESCRIPTION:\nUpstate NY IANDS \nwww.unyi.org\n\nEmail Virginia Waldron--ga
 tkepr@gmail.com if interested in signing up.\n
CATEGORIES:Inspirational Event
LOCATION:RoseHeart Center\, 5900 North Burdick St. \, East Syracuse\, New Y
 ork\, United States
GEO:43.0548596;-76.02063620000001
X-APPLE-STRUCTURED-LOCATION;VALUE=URI;X-ADDRESS=5900 North Burdick St. \, E
 ast Syracuse\, New York\, United States;X-APPLE-RADIUS=100;X-TITLE=RoseHea
 rt Center:geo:43.0548596,-76.02063620000001
END:VEVENT
BEGIN:VTIMEZONE
TZID:America/New_York
X-LIC-LOCATION:America/New_York
BEGIN:DAYLIGHT
DTSTART:20170312T030000
TZOFFSETFROM:-0500
TZOFFSETTO:-0400
TZNAME:EDT
END:DAYLIGHT
END:VTIMEZONE
END:VCALENDAR