BEGIN:VCALENDAR
VERSION:2.0
PRODID:-//wp-events-plugin.com//7.0.4//EN
TZID:America/New_York
X-WR-TIMEZONE:America/New_York
BEGIN:VEVENT
UID:4@vincentgenna.com
DTSTART;TZID=America/New_York:20160604T100000
DTEND;TZID=America/New_York:20160604T130000
DTSTAMP:20160602T012050Z
URL:https://vincentgenna.com/events/a-morning-of-spirit-and-angel-messages
 -healing-and-miracles/
SUMMARY:A Morning of Spirit and Angel Messages\, Healing\, and Miracles!
DESCRIPTION:Here is an opportunity to experience BOTH European evidential M
 ediumship\, and powerful Angel messages in the same event! Internationally
  renowned Psychic Medium\, Vincent Genna joins forces with Certified Angel
  Messenger\, Karen Paolino Correia to bring the Spirit realm closer to Ear
 th.\n\nDuring this event\, Vincent and Karen will be demonstrating the com
 munication process\, as they each connect with these Higher realms through
  their unique gifts. What makes Vincent different is he has the unique abi
 lity to thin the veil between the physical and Spirit worlds so that you f
 eel as if the transitioned souls are alive again! Then he goes where few o
 thers dare to go to obtain the deepest life-transforming messages.\n\nKare
 n will connect to the angels sharing messages of divine guidance. She will
  share how the Angels can help you fulfill your purpose. You will receive 
 divine guidance concerning relationships\, career\, finances\, emotional i
 ssues and other life challenges. The angels will deliver the gifts of insp
 iration and hope that empower you to make choices\n\nIf you have ever atte
 nded one of Vincent&#146\;s Mediumship or Gallery Reading events\, you kno
 w that even though not everyone there will receive an individual reading o
 r connection\, the powerful messages will be for EVERYONE!\n\nHowever\, to
  make this event even more special for all\, at the end\, Karen will guide
  everyone through an altered consciousness reverie where you can feel and 
 experience the love and healing support from your Spiritual family. Your e
 xperience will leave with you with a feeling of peace that you are never a
 lone and are forever loved.\n\nBecome transformed as you hear inspiring an
 d empowering Divine guidance from Angels and transitioned souls and loved 
 ones wishing to provide messages of love\, hope\, and healing!\n\nAdmissio
 n is $44 for One\, $39 for Two!\n\nSo\, Bring a Friend and Receive $5 Off 
 Each!\n\nClick here to register online today!\n\n&nbsp\;
CATEGORIES:Inspirational Event
LOCATION:Courtyard Raleigh-Durham Airport/Morrisville\, 2001 Hospitality Co
 urt\, Morrisville\, NC\, 27560\, United States
GEO:35.8590329;-78.81504899999999
X-APPLE-STRUCTURED-LOCATION;VALUE=URI;X-ADDRESS=2001 Hospitality Court\, Mo
 rrisville\, NC\, 27560\, United States;X-APPLE-RADIUS=100;X-TITLE=Courtyar
 d Raleigh-Durham Airport/Morrisville:geo:35.8590329,-78.81504899999999
END:VEVENT
BEGIN:VTIMEZONE
TZID:America/New_York
X-LIC-LOCATION:America/New_York
BEGIN:DAYLIGHT
DTSTART:20160313T030000
TZOFFSETFROM:-0500
TZOFFSETTO:-0400
TZNAME:EDT
END:DAYLIGHT
END:VTIMEZONE
END:VCALENDAR