BEGIN:VCALENDAR
VERSION:2.0
PRODID:-//wp-events-plugin.com//7.0.4//EN
TZID:America/New_York
X-WR-TIMEZONE:America/New_York
BEGIN:VEVENT
UID:25@vincentgenna.com
DTSTART;TZID=America/New_York:20171028T100000
DTEND;TZID=America/New_York:20171028T130000
DTSTAMP:20170924T171849Z
URL:https://vincentgenna.com/events/all-you-need-is-love/
SUMMARY:All You Need is Love-Attract and Maintain Perfect Relationships!
DESCRIPTION:The two most essential\, inherent\, natural\, and soul-feeding 
 elements of life are UNCONDITIONAL LOVE AND RELATIONSHIPS. Love is the lif
 e force of our spiritual body. So then\, with love and relationships being
  so vital to the evolvement and survival of our very souls\, WHY are most 
 people not in fulfilling or healthy relationships\, many of their relation
 ships strained and dysfunctional\, and the majority of marriages ending in
  divorce? More importantly\, why is unconditional love—our most abundant
  natural resource—the most deprived experience in the world today?
LOCATION:Triangle Center for Spiritual Living\, 559 Jones Franklin Road\, R
 aleigh\, NC\, 27606\, United States
GEO:35.7730547;-78.72183359999997
X-APPLE-STRUCTURED-LOCATION;VALUE=URI;X-ADDRESS=559 Jones Franklin Road\, R
 aleigh\, NC\, 27606\, United States;X-APPLE-RADIUS=100;X-TITLE=Triangle Ce
 nter for Spiritual Living:geo:35.7730547,-78.72183359999997
END:VEVENT
BEGIN:VTIMEZONE
TZID:America/New_York
X-LIC-LOCATION:America/New_York
BEGIN:DAYLIGHT
DTSTART:20170312T030000
TZOFFSETFROM:-0500
TZOFFSETTO:-0400
TZNAME:EDT
END:DAYLIGHT
END:VTIMEZONE
END:VCALENDAR