BEGIN:VCALENDAR
VERSION:2.0
PRODID:-//wp-events-plugin.com//7.0.4//EN
TZID:America/New_York
X-WR-TIMEZONE:America/New_York
BEGIN:VEVENT
UID:30@vincentgenna.com
DTSTART;TZID=America/New_York:20171207T191500
DTEND;TZID=America/New_York:20171207T213000
DTSTAMP:20171114T143506Z
URL:https://vincentgenna.com/events/an-evening-of-spirit-messages-healing-
 and-miracles/
SUMMARY:An Evening of Spirit Messages\, Healing and Miracles
DESCRIPTION:This is a Spiritual Frontiers Fellowship event and an evening y
 ou don’t want to miss! Psychic Medium Vincent Genna will offer us an opp
 ortunity to experience both evidential mediumship connections\, as taught 
 and practiced by current prominent European mediums\, and powerful psychic
  soul-to-soul readings in the same event.\n\n
LOCATION:Unity Church of the Triangle\, 5570 Munford Rd.\, Raleigh\, NC\, 2
 7612\, United States
GEO:35.8584704;-78.6998074
X-APPLE-STRUCTURED-LOCATION;VALUE=URI;X-ADDRESS=5570 Munford Rd.\, Raleigh\
 , NC\, 27612\, United States;X-APPLE-RADIUS=100;X-TITLE=Unity Church of th
 e Triangle:geo:35.8584704,-78.6998074
END:VEVENT
BEGIN:VTIMEZONE
TZID:America/New_York
X-LIC-LOCATION:America/New_York
BEGIN:STANDARD
DTSTART:20171105T010000
TZOFFSETFROM:-0400
TZOFFSETTO:-0500
TZNAME:EST
END:STANDARD
END:VTIMEZONE
END:VCALENDAR