BEGIN:VCALENDAR
VERSION:2.0
PRODID:-//wp-events-plugin.com//7.0.4//EN
TZID:America/New_York
X-WR-TIMEZONE:America/New_York
BEGIN:VEVENT
UID:20@vincentgenna.com
DTSTART;TZID=America/New_York:20171105T093000
DTEND;TZID=America/New_York:20171105T173000
DTSTAMP:20171011T222350Z
URL:https://vincentgenna.com/events/awaken-noetic/
SUMMARY:Awaken the Psychic and Medium Within\, at the Institute of Noetic S
 ciences
DESCRIPTION:I am excited to be presenting my highly acclaimed workshop at t
 he Institute of Noetic Sciences in California this November! Though this i
 s an opportunity to tap into and learn to use your psychic and mediumship 
 skills\, the side benefit is it will actually transform your life forever!
  Participants have been experiencing such enlightening clarity in their li
 ves\, all aspects of their lives have been improving. By the end of the da
 y\, you will be attuned with the highest and divine part of you and empowe
 red to create the life you deserve!
CATEGORIES:Inspirational Event
LOCATION:IONS EarthRise Transformational Learning Center\, 101 San Antonio 
 Rd.\, Petaluma\, CA\, 94952\, Napa Valley\, United States
GEO:38.1752316;-122.60570339999998
X-APPLE-STRUCTURED-LOCATION;VALUE=URI;X-ADDRESS=101 San Antonio Rd.\, Petal
 uma\, CA\, 94952\, Napa Valley\, United States;X-APPLE-RADIUS=100;X-TITLE=
 IONS EarthRise Transformational Learning Center:geo:38.1752316,-122.605703
 39999998
END:VEVENT
BEGIN:VTIMEZONE
TZID:America/New_York
X-LIC-LOCATION:America/New_York
BEGIN:STANDARD
DTSTART:20171105T010000
TZOFFSETFROM:-0400
TZOFFSETTO:-0500
TZNAME:EST
END:STANDARD
END:VTIMEZONE
END:VCALENDAR