BEGIN:VCALENDAR
VERSION:2.0
PRODID:-//wp-events-plugin.com//7.0.4//EN
TZID:America/New_York
X-WR-TIMEZONE:America/New_York
BEGIN:VEVENT
UID:38@vincentgenna.com
DTSTART;TZID=America/New_York:20180313T193000
DTEND;TZID=America/New_York:20180403T213000
DTSTAMP:20180311T042215Z
URL:https://vincentgenna.com/events/awaken-the-psychic-and-medium-within-t
 elecourse-5/
SUMMARY:Awaken the Psychic and Medium Within Telecourse 6
DESCRIPTION:Learn Evidential Mediumship as taught in England! Some of the 
 most renowned and expert Mediums come from the UK. During this course\, yo
 u will learn techniques and practices used by the best Mediums in the worl
 d! Don't miss the opportunity to separate yourself from the others and exp
 erience Mediumship as taught by the original historical masters. 
CATEGORIES:Inspirational Event
END:VEVENT
BEGIN:VTIMEZONE
TZID:America/New_York
X-LIC-LOCATION:America/New_York
BEGIN:DAYLIGHT
DTSTART:20180311T030000
TZOFFSETFROM:-0500
TZOFFSETTO:-0400
TZNAME:EDT
END:DAYLIGHT
END:VTIMEZONE
END:VCALENDAR