BEGIN:VCALENDAR
VERSION:2.0
PRODID:-//wp-events-plugin.com//7.0.4//EN
TZID:America/New_York
X-WR-TIMEZONE:America/New_York
BEGIN:VEVENT
UID:29@vincentgenna.com
DTSTART;TZID=America/New_York:20171012T193000
DTEND;TZID=America/New_York:20171102T213000
DTSTAMP:20171012T185736Z
URL:https://vincentgenna.com/events/awaken5/
SUMMARY:Awaken the Psychic and Medium Within Telecourse 5
DESCRIPTION:Learn Evidential Mediumship and Psychic attunement as taught in
  England! Some of the most renowned and expert Mediums and Psychics come f
 rom the UK. During this course\, you will learn techniques and practices u
 sed by the best Psychic Mediums in the world! Don't miss the opportunity t
 o experience your own personal power! 
CATEGORIES:Inspirational Event
END:VEVENT
BEGIN:VTIMEZONE
TZID:America/New_York
X-LIC-LOCATION:America/New_York
BEGIN:DAYLIGHT
DTSTART:20170312T030000
TZOFFSETFROM:-0500
TZOFFSETTO:-0400
TZNAME:EDT
END:DAYLIGHT
END:VTIMEZONE
END:VCALENDAR