BEGIN:VCALENDAR
VERSION:2.0
PRODID:-//wp-events-plugin.com//7.0.4//EN
TZID:America/New_York
X-WR-TIMEZONE:America/New_York
BEGIN:VEVENT
UID:19@vincentgenna.com
DTSTART;TZID=America/New_York:20170406T190000
DTEND;TZID=America/New_York:20170406T210000
DTSTAMP:20170223T234307Z
URL:https://vincentgenna.com/events/conversations-with-weigel-an-evening-w
 ith-spirit-with-vincent-genna-msw/
SUMMARY:Conversations with Weigel-An Evening with Vincent Genna\, MSW and S
 pirit!
DESCRIPTION:Join Jennifer Weigel at the Wilmette Theatre as she interviews 
 internationally renowned Psychic Medium\, Vincent Genna\, MSW. With Vince
 nt\, you can look forward to a program full of inspiration and magic. He w
 ill forever transform your life and change your feelings about death and l
 iving\, as he delivers messages of love\, comfort\, forgiveness\, and heal
 ing weaved through the evidential memories and specific details loved ones
  in spirit wish to impart! You have NEVER experienced Mediumship as powerf
 ul and quite like this!\n\nVincent brings the spirit world so close to the
  physical world\, you will feel them alive again\, and leave feeling a con
 nection with Spirit\, and comforted in the knowledge that loved ones who h
 ave passed are always with you!
CATEGORIES:Inspirational Event
LOCATION:Wilmette Theatre\, 1122 Central Ave\, Wilmette\,\, IL\, 60091\, Un
 ited States
GEO:42.076916;-87.705939
X-APPLE-STRUCTURED-LOCATION;VALUE=URI;X-ADDRESS=1122 Central Ave\, Wilmette
 \,\, IL\, 60091\, United States;X-APPLE-RADIUS=100;X-TITLE=Wilmette Theatr
 e:geo:42.076916,-87.705939
END:VEVENT
BEGIN:VTIMEZONE
TZID:America/New_York
X-LIC-LOCATION:America/New_York
BEGIN:DAYLIGHT
DTSTART:20170312T030000
TZOFFSETFROM:-0500
TZOFFSETTO:-0400
TZNAME:EDT
END:DAYLIGHT
END:VTIMEZONE
END:VCALENDAR