BEGIN:VCALENDAR
VERSION:2.0
PRODID:-//wp-events-plugin.com//7.0.4//EN
TZID:America/New_York
X-WR-TIMEZONE:America/New_York
BEGIN:VEVENT
UID:1@vincentgenna.com
DTSTART;TZID=America/New_York:20160501T133000
DTEND;TZID=America/New_York:20160501T150000
DTSTAMP:20160330T204936Z
URL:https://vincentgenna.com/events/god-versus-ego/
SUMMARY:God versus Ego!
DESCRIPTION:\nVincent will be speaking at the&nbsp\;Coptic Fellowship &amp\
 ; Tri-Cities Metaphysical Study Group Conference!\n\nClick here for more i
 nformation!\n
CATEGORIES:Inspirational Event
LOCATION:Holiday Inn Johnson City\, 101 West Springbrook Dr.\, Johnson City
 \, TN\, 37604\, United States
GEO:36.349661;-82.38175000000001
X-APPLE-STRUCTURED-LOCATION;VALUE=URI;X-ADDRESS=101 West Springbrook Dr.\, 
 Johnson City\, TN\, 37604\, United States;X-APPLE-RADIUS=100;X-TITLE=Holid
 ay Inn Johnson City:geo:36.349661,-82.38175000000001
END:VEVENT
BEGIN:VTIMEZONE
TZID:America/New_York
X-LIC-LOCATION:America/New_York
BEGIN:DAYLIGHT
DTSTART:20160313T030000
TZOFFSETFROM:-0500
TZOFFSETTO:-0400
TZNAME:EDT
END:DAYLIGHT
END:VTIMEZONE
END:VCALENDAR