BEGIN:VCALENDAR
VERSION:2.0
PRODID:-//wp-events-plugin.com//7.0.4//EN
TZID:America/New_York
X-WR-TIMEZONE:America/New_York
BEGIN:VEVENT
UID:34@vincentgenna.com
DTSTART;TZID=America/New_York:20180224T150000
DTEND;TZID=America/New_York:20180224T170000
DTSTAMP:20180124T173042Z
URL:https://vincentgenna.com/events/healing-we-need-from-beyond/
SUMMARY:Healing We Need From Beyond!
DESCRIPTION:This will be a powerful afternoon of healing and love from the 
 Spirit Realm! During this event\, Vincent will channel messages for random
  individuals and the whole audience from ascended masters\, deceased loved
  ones\, guides\, and angels. And for the first time in public\, Vincent wi
 ll trance his higher self and introduce you to Joseph and his wisdom. 
LOCATION:NC State Fairgrounds Kerr Scott Building\, 1025 Blue Ridge Rd.\, R
 aleigh\, NC\, United States
GEO:35.7947309;-78.70778810000002
X-APPLE-STRUCTURED-LOCATION;VALUE=URI;X-ADDRESS=1025 Blue Ridge Rd.\, Ralei
 gh\, NC\, United States;X-APPLE-RADIUS=100;X-TITLE=NC State Fairgrounds Ke
 rr Scott Building:geo:35.7947309,-78.70778810000002
END:VEVENT
BEGIN:VTIMEZONE
TZID:America/New_York
X-LIC-LOCATION:America/New_York
BEGIN:STANDARD
DTSTART:20171105T010000
TZOFFSETFROM:-0400
TZOFFSETTO:-0500
TZNAME:EST
END:STANDARD
END:VTIMEZONE
END:VCALENDAR