BEGIN:VCALENDAR
VERSION:2.0
PRODID:-//wp-events-plugin.com//7.0.4//EN
TZID:America/New_York
X-WR-TIMEZONE:America/New_York
BEGIN:VEVENT
UID:10@vincentgenna.com
DTSTART;TZID=America/New_York:20161031T112000
DTEND;TZID=America/New_York:20161031T122000
DTSTAMP:20161022T004326Z
URL:https://vincentgenna.com/events/jenny-mccarthy-sirius-xm-radio-intervi
 ew/
SUMMARY:Jenny McCarthy Sirius XM Radio Interview!
DESCRIPTION:This is going to be a fun interview that you won't want to miss
 ! This show is 11:20am Eastern Time\, and I know Jenny is going to get pro
 vocative with her questions\, so you won't want to miss this! Click the im
 age to link to her show page.\n\n
CATEGORIES:Inspirational Event
END:VEVENT
BEGIN:VTIMEZONE
TZID:America/New_York
X-LIC-LOCATION:America/New_York
BEGIN:DAYLIGHT
DTSTART:20160313T030000
TZOFFSETFROM:-0500
TZOFFSETTO:-0400
TZNAME:EDT
END:DAYLIGHT
END:VTIMEZONE
END:VCALENDAR