BEGIN:VCALENDAR
VERSION:2.0
PRODID:-//wp-events-plugin.com//7.0.4//EN
TZID:America/New_York
X-WR-TIMEZONE:America/New_York
BEGIN:VEVENT
UID:114@vincentgenna.com
DTSTART;TZID=America/New_York:20250419T170000
DTEND;TZID=America/New_York:20250419T200000
DTSTAMP:20241010T223239Z
URL:https://vincentgenna.com/events/noory-event/
SUMMARY:George Noory LIVE In Charlotte\, NC!
DESCRIPTION:When George Noory Hosts an event\, you can expect magic\, mysti
 cism\, and dynamic energy! \n\nCome back to see the full details.
CATEGORIES:Education,Inspirational Event
LOCATION:Booth Playhouse at Blumenthal Performing Arts Center\, 130 North T
 ryon St\, Charlotte\, NC\, 28202\, United States
X-APPLE-STRUCTURED-LOCATION;VALUE=URI;X-ADDRESS=130 North Tryon St\, Charlo
 tte\, NC\, 28202\, United States;X-APPLE-RADIUS=100;X-TITLE=Booth Playhous
 e at Blumenthal Performing Arts Center:geo:0,0
END:VEVENT
BEGIN:VTIMEZONE
TZID:America/New_York
X-LIC-LOCATION:America/New_York
BEGIN:DAYLIGHT
DTSTART:20250309T030000
TZOFFSETFROM:-0500
TZOFFSETTO:-0400
TZNAME:EDT
END:DAYLIGHT
END:VTIMEZONE
END:VCALENDAR