BEGIN:VCALENDAR
VERSION:2.0
PRODID:-//wp-events-plugin.com//7.0.4//EN
TZID:America/New_York
X-WR-TIMEZONE:America/New_York
BEGIN:VEVENT
UID:116@vincentgenna.com
DTSTART;TZID=America/New_York;VALUE=DATE:20250801
DTEND;TZID=America/New_York;VALUE=DATE:20250804
DTSTAMP:20250708T163116Z
URL:https://vincentgenna.com/events/psi-international-games-conference/
SUMMARY:PSI International Games Conference
DESCRIPTION:The Psi Games are a groundbreaking tournament designed to explo
 re and celebrate the full spectrum of psychic abilities. Grounded in the p
 rinciples of the Bannister Effect\, we aim to open participants’ and spe
 ctators’ minds to the vast potential of psi by showcasing what is truly 
 possible.
CATEGORIES:Conference,Education,Inspirational Event
LOCATION:Omni Hotel Charlottesville\, 212 Ridge McIntire Rd\, Charlottesvil
 le\, VA\, 22903\, United States
X-APPLE-STRUCTURED-LOCATION;VALUE=URI;X-ADDRESS=212 Ridge McIntire Rd\, Cha
 rlottesville\, VA\, 22903\, United States;X-APPLE-RADIUS=100;X-TITLE=Omni 
 Hotel Charlottesville:geo:0,0
END:VEVENT
BEGIN:VTIMEZONE
TZID:America/New_York
X-LIC-LOCATION:America/New_York
BEGIN:DAYLIGHT
DTSTART:20250309T030000
TZOFFSETFROM:-0500
TZOFFSETTO:-0400
TZNAME:EDT
END:DAYLIGHT
END:VTIMEZONE
END:VCALENDAR