BEGIN:VCALENDAR
VERSION:2.0
PRODID:-//wp-events-plugin.com//7.0.4//EN
TZID:America/New_York
X-WR-TIMEZONE:America/New_York
BEGIN:VEVENT
UID:118@vincentgenna.com
DTSTART;TZID=America/New_York:20260411T130000
DTEND;TZID=America/New_York:20260411T140000
DTSTAMP:20260409T170524Z
URL:https://vincentgenna.com/events/psychic-self-reading/
SUMMARY:How to Do a Psychic Self-Reading--A Free Shift Network Event
DESCRIPTION:You’ve done the work. You’ve grown. Yet something still isn
 ’t fully landing.\n\nIn this free live experience\, you’ll uncover the
  hidden patterns shaping your life and be guided through a powerful psychi
 c self-reading to access deeper clarity\, alignment\, and real inner shift
 .
CATEGORIES:Education,Inspirational Event
END:VEVENT
BEGIN:VTIMEZONE
TZID:America/New_York
X-LIC-LOCATION:America/New_York
BEGIN:DAYLIGHT
DTSTART:20260308T030000
TZOFFSETFROM:-0500
TZOFFSETTO:-0400
TZNAME:EDT
END:DAYLIGHT
END:VTIMEZONE
END:VCALENDAR