BEGIN:VCALENDAR
VERSION:2.0
PRODID:-//wp-events-plugin.com//7.0.4//EN
TZID:America/New_York
X-WR-TIMEZONE:America/New_York
BEGIN:VEVENT
UID:21@vincentgenna.com
DTSTART;TZID=America/New_York:20171005T183000
DTEND;TZID=America/New_York:20171005T213000
DTSTAMP:20170719T233038Z
URL:https://vincentgenna.com/events/spirit-and-angels/
SUMMARY:A Night of Spirit and Angel Messages\, Healing\, and Miracles!
DESCRIPTION:Here is an opportunity to experience BOTH European Evidential M
 ediumship\, and powerful Angel messages in the same event! Internationally
  renowned Psychic Medium\, Vincent Genna joins forces with Certified Angel
  Messenger\, Karen Paolino.
CATEGORIES:Inspirational Event
LOCATION:F1 Boston\, 290 Wood Rd.\, Braintree\, MA\, United States
GEO:42.21819379999999;-71.03945420000002
X-APPLE-STRUCTURED-LOCATION;VALUE=URI;X-ADDRESS=290 Wood Rd.\, Braintree\, 
 MA\, United States;X-APPLE-RADIUS=100;X-TITLE=F1 Boston:geo:42.21819379999
 999,-71.03945420000002
END:VEVENT
BEGIN:VTIMEZONE
TZID:America/New_York
X-LIC-LOCATION:America/New_York
BEGIN:DAYLIGHT
DTSTART:20170312T030000
TZOFFSETFROM:-0500
TZOFFSETTO:-0400
TZNAME:EDT
END:DAYLIGHT
END:VTIMEZONE
END:VCALENDAR