BEGIN:VCALENDAR
VERSION:2.0
PRODID:-//wp-events-plugin.com//7.0.4//EN
TZID:America/New_York
X-WR-TIMEZONE:America/New_York
BEGIN:VEVENT
UID:44@vincentgenna.com
DTSTART;TZID=America/New_York:20180522T193000
DTEND;TZID=America/New_York:20180522T213000
DTSTAMP:20180514T231509Z
URL:https://vincentgenna.com/events/spirit-circle-telecourse-mentoring-pro
 gram-8/
SUMMARY:Spirit Circle Telecourse Mentoring Program
DESCRIPTION:Don’t harm your Divinely endowed gifts! Whether you are an ex
 perienced working Psychic Medium or just beginning to use your newly deve
 loped gifts\, practice is the essential comportment to further develop and
  enhance your skills\, however\, not just any type of practice. The key to
  perfecting your psychic and mediumship abilities is to work them correctl
 y\, consistently\, and continuously.
CATEGORIES:Inspirational Event
END:VEVENT
BEGIN:VTIMEZONE
TZID:America/New_York
X-LIC-LOCATION:America/New_York
BEGIN:DAYLIGHT
DTSTART:20180311T030000
TZOFFSETFROM:-0500
TZOFFSETTO:-0400
TZNAME:EDT
END:DAYLIGHT
END:VTIMEZONE
END:VCALENDAR