BEGIN:VCALENDAR
VERSION:2.0
PRODID:-//wp-events-plugin.com//7.0.4//EN
TZID:America/New_York
X-WR-TIMEZONE:America/New_York
BEGIN:VEVENT
UID:5@vincentgenna.com
DTSTART;TZID=America/New_York:20160611T140000
DTEND;TZID=America/New_York:20160611T170000
DTSTAMP:20160602T005845Z
URL:https://vincentgenna.com/events/vincent-genna-an-afternoon-of-readings
 /
SUMMARY:Vincent Genna: An Afternoon of Readings
DESCRIPTION:\nVincent Genna: An Afternoon of Readings\nChicago IANDS and Th
 e Church of the Spirit present Vincent Genna as he brings the spirit world
  so close to the physical world that you will feel them alive again. Vince
 nt states: &#147\;During my live events\, I am an instrument for the Spiri
 t world. Spirits mirror my mind and the skills\, experiences\, and knowled
 ge I have gained through my life to communicate thoughts\, feelings\, imag
 es\, and memories to audience members. The total energy in the room and th
 e purity of the intentions and purpose of the connections aids the spirits
 &#146\; communication of evidential details that you will recognize\, prov
 ing their love for you never dies.&#148\;\n\nVincent Genna\, MSW\, is a tr
 iple power Psychic Medium\, an authentic and gifted psychic medium\, with 
 the knowledge and experience of a psychotherapist. Genna is a results-orie
 nted &#147\;solutions&#148\; Psychic Medium who tunes into your soul\, gui
 des\, angelic\, deceased loved ones\, and spirit dimension for guiding mes
 sages. Vincent&#146\;s life experience\, extraordinary psychic gifts and a
 uthenticity have allowed him to inspire and transform the lives of thousan
 ds of people from Ireland\, to Australia\, to Vietnam\, to Russia\, to Swi
 tzerland.\n\nVincent Genna will be speaking for the Chicago IANDS meeting 
 on Saturday afternoon\, June 11\, 2-5 pm\, in the Frank Auditorium at Evan
 ston Hospital\, 2650 Ridge Ave (corner of Central St)\, Evanston. The purp
 le line L train stops in front of the hospital on Central St.\nHe will als
 o be speaking at the Sunday morning service at The Church of the Spirit\, 
 Sunday\, June 12\, at 10:30 am.\n\nFor more information\, please visit: &n
 bsp\;https://www.eventbrite.com/e/vincent-genna-an-afternoon-of-readings-t
 ickets-24789574284\n
CATEGORIES:Inspirational Event
LOCATION:Frank Auditorium at Evanston Hospital\, 2650 Ridge Ave (corner of 
 Central St)\, Evanston\, IL\, United States
GEO:42.0641594;-87.68352820000001
X-APPLE-STRUCTURED-LOCATION;VALUE=URI;X-ADDRESS=2650 Ridge Ave (corner of C
 entral St)\, Evanston\, IL\, United States;X-APPLE-RADIUS=100;X-TITLE=Fran
 k Auditorium at Evanston Hospital:geo:42.0641594,-87.68352820000001
END:VEVENT
BEGIN:VTIMEZONE
TZID:America/New_York
X-LIC-LOCATION:America/New_York
BEGIN:DAYLIGHT
DTSTART:20160313T030000
TZOFFSETFROM:-0500
TZOFFSETTO:-0400
TZNAME:EDT
END:DAYLIGHT
END:VTIMEZONE
END:VCALENDAR