BEGIN:VCALENDAR
VERSION:2.0
PRODID:-//wp-events-plugin.com//7.0.4//EN
TZID:America/New_York
X-WR-TIMEZONE:America/New_York
BEGIN:VEVENT
UID:33@vincentgenna.com
DTSTART;TZID=America/New_York:20180203T000000
DTEND;TZID=America/New_York:20180204T000000
DTSTAMP:20180124T170506Z
URL:https://vincentgenna.com/events/virginia-beach-friends-of-iands/
SUMMARY:Virginia Beach Friends of IANDS
DESCRIPTION:Vincent transcended a youth of constant abuse and torment to em
 power and transform thousands of people’s lives all over the world today
 ! You will be moved and inspired by the heartfelt stories Vincent shares a
 bout his own Spiritual Transformation and adventures.
LOCATION:The Association for Research Enlightenmment\, 215 67th St.\, Virgi
 nia Beach\, VA\, United States
GEO:36.8929885;-75.9899423
X-APPLE-STRUCTURED-LOCATION;VALUE=URI;X-ADDRESS=215 67th St.\, Virginia Bea
 ch\, VA\, United States;X-APPLE-RADIUS=100;X-TITLE=The Association for Res
 earch Enlightenmment:geo:36.8929885,-75.9899423
END:VEVENT
BEGIN:VTIMEZONE
TZID:America/New_York
X-LIC-LOCATION:America/New_York
BEGIN:STANDARD
DTSTART:20171105T010000
TZOFFSETFROM:-0400
TZOFFSETTO:-0500
TZNAME:EST
END:STANDARD
END:VTIMEZONE
END:VCALENDAR